BEGIN:VCALENDAR
VERSION:2.0
PRODID:-//Sidney Lawn Bowling Club - ECPv6.15.20//NONSGML v1.0//EN
CALSCALE:GREGORIAN
METHOD:PUBLISH
X-WR-CALNAME:Sidney Lawn Bowling Club
X-ORIGINAL-URL:https://www.sidneylawnbowlingclub.com
X-WR-CALDESC:Events for Sidney Lawn Bowling Club
REFRESH-INTERVAL;VALUE=DURATION:PT1H
X-Robots-Tag:noindex
X-PUBLISHED-TTL:PT1H
BEGIN:VTIMEZONE
TZID:America/Vancouver
BEGIN:DAYLIGHT
TZOFFSETFROM:-0800
TZOFFSETTO:-0700
TZNAME:PDT
DTSTART:20250309T100000
END:DAYLIGHT
BEGIN:STANDARD
TZOFFSETFROM:-0700
TZOFFSETTO:-0800
TZNAME:PST
DTSTART:20251102T090000
END:STANDARD
BEGIN:DAYLIGHT
TZOFFSETFROM:-0800
TZOFFSETTO:-0700
TZNAME:PDT
DTSTART:20260308T100000
END:DAYLIGHT
BEGIN:STANDARD
TZOFFSETFROM:-0700
TZOFFSETTO:-0800
TZNAME:PST
DTSTART:20261101T090000
END:STANDARD
BEGIN:DAYLIGHT
TZOFFSETFROM:-0800
TZOFFSETTO:-0700
TZNAME:PDT
DTSTART:20270314T100000
END:DAYLIGHT
BEGIN:STANDARD
TZOFFSETFROM:-0700
TZOFFSETTO:-0800
TZNAME:PST
DTSTART:20271107T090000
END:STANDARD
END:VTIMEZONE
BEGIN:VEVENT
DTSTART;TZID=America/Vancouver:20260423T093000
DTEND;TZID=America/Vancouver:20260423T120000
DTSTAMP:20260423T131504
CREATED:20260201T162813Z
LAST-MODIFIED:20260202T213904Z
UID:10003544-1776936600-1776945600@www.sidneylawnbowlingclub.com
SUMMARY:Donut Draw
DESCRIPTION:This is one of our most popular weekly draws. Games are decided by the Draw master based on the number of entries. One game of 12 ends each is played with a social break in the middle.\nTea/coffee are available as are donuts all at the posted cost. Highly sociable morning draw and the one day of the week you can forget your diet – it’s unCanadian to pass on a donut.
URL:https://www.sidneylawnbowlingclub.com/event/donut-draw-2-2/2026-04-23/
LOCATION:Sidney Lawn Bowling Club\, 9580 Fifth Street\, Sidney\, BC\, V8L2W5\, Canada
CATEGORIES:Draw,Social
ORGANIZER;CN="Bev Carter":MAILTO:beverlyc304@gmail.com
END:VEVENT
BEGIN:VEVENT
DTSTART;TZID=America/Vancouver:20260423T133000
DTEND;TZID=America/Vancouver:20260423T153000
DTSTAMP:20260423T131504
CREATED:20260201T163429Z
LAST-MODIFIED:20260315T180342Z
UID:10003654-1776951000-1776958200@www.sidneylawnbowlingclub.com
SUMMARY:Cutthroat
DESCRIPTION:Games consist of 14 ends\, with 3 players nominally \, or 2\, or 4 if numbers require. All players will play 4\nbowls unless there are 4 players\, in which case 3 bowls are used. Check-in is at least 15 minutes prior to starting time. This event is intended to be self managed and the players are expected to take turns doing the draw. See the Event Information below for all game details. \nEvent Information 2026 \n 
URL:https://www.sidneylawnbowlingclub.com/event/cutthroat-5-2/2026-04-23/
LOCATION:Sidney Lawn Bowling Club\, 9580 Fifth Street\, Sidney\, BC\, V8L2W5\, Canada
CATEGORIES:Draw,Social
END:VEVENT
END:VCALENDAR